Package: MungeSumstats Version: 1.14.1 Command: /home/biocbuild/bbs-3.20-bioc/R/bin/R CMD check --install=check:MungeSumstats.install-out.txt --library=/home/biocbuild/bbs-3.20-bioc/R/site-library --timings MungeSumstats_1.14.1.tar.gz StartedAt: 2025-02-04 00:35:24 -0500 (Tue, 04 Feb 2025) EndedAt: 2025-02-04 00:53:26 -0500 (Tue, 04 Feb 2025) EllapsedTime: 1082.3 seconds RetCode: 0 Status: OK CheckDir: MungeSumstats.Rcheck Warnings: 0