Package: MungeSumstats Version: 1.14.1 Command: /home/biocbuild/bbs-3.20-bioc/R/bin/R CMD INSTALL MungeSumstats StartedAt: 2025-02-03 15:33:19 -0500 (Mon, 03 Feb 2025) EndedAt: 2025-02-03 15:34:05 -0500 (Mon, 03 Feb 2025) EllapsedTime: 45.7 seconds RetCode: 0 Status: OK