Package: MutationalPatterns Version: 3.16.0 Command: /Library/Frameworks/R.framework/Resources/bin/R CMD INSTALL MutationalPatterns StartedAt: 2025-02-03 16:17:39 -0500 (Mon, 03 Feb 2025) EndedAt: 2025-02-03 16:18:01 -0500 (Mon, 03 Feb 2025) EllapsedTime: 21.6 seconds RetCode: 0 Status: OK