Package: MutationalPatterns
Version: 3.15.0
Command: rm -rf MutationalPatterns.buildbin-libdir && mkdir MutationalPatterns.buildbin-libdir && F:\biocbuild\bbs-3.20-bioc\R\bin\R.exe CMD INSTALL --build --library=MutationalPatterns.buildbin-libdir MutationalPatterns_3.15.0.tar.gz
StartedAt: 2024-06-10 14:22:43 -0400 (Mon, 10 Jun 2024)
EndedAt: 2024-06-10 14:24:21 -0400 (Mon, 10 Jun 2024)
EllapsedTime: 98.3 seconds
RetCode: 0
Status: OK
PackageFile: MutationalPatterns_3.15.0.zip
PackageFileSize: 3.893 <A href="http://en.wikipedia.org/wiki/MiB" target="_blank">MiB</A>