############################################################################## ############################################################################## ### ### Running command: ### ### /home/biocbuild/R/R/bin/R CMD check --install=check:MutationalPatterns.install-out.txt --library=/home/biocbuild/R/R/site-library --no-vignettes --timings MutationalPatterns_3.16.0.tar.gz ### ############################################################################## ############################################################################## * using log directory ‘/home/biocbuild/bbs-3.20-bioc/meat/MutationalPatterns.Rcheck’ * using R version 4.4.2 (2024-10-31) * using platform: aarch64-unknown-linux-gnu * R was compiled by aarch64-unknown-linux-gnu-gcc (GCC) 14.2.0 GNU Fortran (GCC) 12.3.1 (openEuler 12.3.1-36.oe2403) * running under: openEuler 24.03 (LTS) * using session charset: UTF-8 * using option ‘--no-vignettes’ * checking for file ‘MutationalPatterns/DESCRIPTION’ ... OK * checking extension type ... Package * this is package ‘MutationalPatterns’ version ‘3.16.0’ * package encoding: UTF-8 * checking package namespace information ... OK * checking package dependencies ... OK * checking if this is a source package ... OK * checking if there is a namespace ... OK * checking for hidden files and directories ... OK * checking for portable file names ... OK * checking for sufficient/correct file permissions ... OK * checking whether package ‘MutationalPatterns’ can be installed ... OK * checking installed package size ... OK * checking package directory ... OK * checking ‘build’ directory ... OK * checking DESCRIPTION meta-information ... NOTE License stub is invalid DCF. * checking top-level files ... OK * checking for left-over files ... OK * checking index information ... OK * checking package subdirectories ... OK * checking code files for non-ASCII characters ... OK * checking R files for syntax errors ... OK * checking whether the package can be loaded ... OK * checking whether the package can be loaded with stated dependencies ... OK * checking whether the package can be unloaded cleanly ... OK * checking whether the namespace can be loaded with stated dependencies ... OK * checking whether the namespace can be unloaded cleanly ... OK * checking loading without being on the library search path ... OK * checking dependencies in R code ... OK * checking S3 generic/method consistency ... OK * checking replacement functions ... OK * checking foreign function calls ... OK * checking R code for possible problems ... OK * checking Rd files ... OK * checking Rd metadata ... OK * checking Rd cross-references ... OK * checking for missing documentation entries ... OK * checking for code/documentation mismatches ... OK * checking Rd \usage sections ... OK * checking Rd contents ... OK * checking for unstated dependencies in examples ... OK * checking files in ‘vignettes’ ... OK * checking examples ... OK Examples with CPU (user + system) or elapsed time > 5s user system elapsed context_potential_damage_analysis 30.899 0.527 31.509 read_vcfs_as_granges 26.945 1.396 43.234 plot_lesion_segregation 20.983 0.052 21.086 get_mut_type 16.082 0.048 16.168 calculate_lesion_segregation 15.794 0.315 16.148 genomic_distribution 14.571 0.208 14.879 plot_compare_indels 12.593 0.000 12.649 bin_mutation_density 11.480 0.491 12.214 plot_indel_contexts 11.612 0.084 11.726 get_indel_context 9.326 0.375 9.728 plot_compare_dbs 7.840 0.020 7.880 plot_profile_heatmap 7.134 0.120 7.275 fit_to_signatures_bootstrapped 7.028 0.040 7.083 plot_river 6.684 0.000 6.704 plot_spectrum_region 6.467 0.059 6.551 plot_spectrum 6.244 0.092 6.354 split_muts_region 5.935 0.394 6.356 mut_matrix_stranded 5.748 0.164 5.928 plot_dbs_contexts 5.637 0.000 5.652 * checking for unstated dependencies in ‘tests’ ... OK * checking tests ... Running ‘testthat.R’ OK * checking for unstated dependencies in vignettes ... OK * checking package vignettes ... OK * checking running R code from vignettes ... SKIPPED * checking re-building of vignette outputs ... SKIPPED * checking PDF version of manual ... OK * DONE Status: 1 NOTE See ‘/home/biocbuild/bbs-3.20-bioc/meat/MutationalPatterns.Rcheck/00check.log’ for details.