Package: MutationalPatterns
Version: 3.16.0
Command: /home/biocbuild/bbs-3.20-bioc/R/bin/R CMD check --install=check:MutationalPatterns.install-out.txt --library=/home/biocbuild/bbs-3.20-bioc/R/site-library --timings MutationalPatterns_3.16.0.tar.gz
StartedAt: 2024-11-20 06:30:20 -0500 (Wed, 20 Nov 2024)
EndedAt: 2024-11-20 06:46:38 -0500 (Wed, 20 Nov 2024)
EllapsedTime: 977.2 seconds
RetCode: 0
Status: OK
CheckDir: MutationalPatterns.Rcheck
Warnings: 0