Package: MutationalPatterns
Version: 3.16.0
Command: /home/biocbuild/bbs-3.20-bioc/R/bin/R CMD INSTALL MutationalPatterns
StartedAt: 2024-11-19 16:19:04 -0500 (Tue, 19 Nov 2024)
EndedAt: 2024-11-19 16:19:20 -0500 (Tue, 19 Nov 2024)
EllapsedTime: 16.3 seconds
RetCode: 0
Status: OK