Package: NADfinder Version: 1.30.0 Command: rm -rf NADfinder.buildbin-libdir && mkdir NADfinder.buildbin-libdir && /Users/biocbuild/BBS/utils/build-universal.sh NADfinder_1.30.0.tar.gz /Library/Frameworks/R.framework/Resources/bin/R NADfinder.buildbin-libdir StartedAt: 2024-11-09 17:01:39 -0500 (Sat, 09 Nov 2024) EndedAt: 2024-11-09 17:02:09 -0500 (Sat, 09 Nov 2024) EllapsedTime: 30.5 seconds RetCode: 0 Status: OK PackageFile: NADfinder_1.30.0.tgz PackageFileSize: 6.476 MiB