Package: NADfinder
Version: 1.30.0
Command: /Library/Frameworks/R.framework/Resources/bin/R CMD INSTALL NADfinder
StartedAt: 2024-11-19 15:40:33 -0500 (Tue, 19 Nov 2024)
EndedAt: 2024-11-19 15:42:10 -0500 (Tue, 19 Nov 2024)
EllapsedTime: 97.6 seconds
RetCode: 0
Status: OK