Package: NADfinder Version: 1.30.0 Command: /Library/Frameworks/R.framework/Resources/bin/R CMD build --keep-empty-dirs --no-resave-data NADfinder StartedAt: 2025-02-03 20:47:44 -0500 (Mon, 03 Feb 2025) EndedAt: 2025-02-03 20:55:36 -0500 (Mon, 03 Feb 2025) EllapsedTime: 472.1 seconds RetCode: 0 Status: OK PackageFile: NADfinder_1.30.0.tar.gz PackageFileSize: 6.013 MiB