Package: NADfinder Version: 1.30.0 Command: /Library/Frameworks/R.framework/Resources/bin/R CMD check --install=check:NADfinder.install-out.txt --library=/Library/Frameworks/R.framework/Resources/library --no-vignettes --timings NADfinder_1.30.0.tar.gz StartedAt: 2025-02-04 07:06:45 -0500 (Tue, 04 Feb 2025) EndedAt: 2025-02-04 07:24:52 -0500 (Tue, 04 Feb 2025) EllapsedTime: 1087.4 seconds RetCode: 0 Status: OK CheckDir: NADfinder.Rcheck Warnings: 0