Package: NADfinder Version: 1.30.0 Command: /home/biocbuild/bbs-3.20-bioc/R/bin/R CMD INSTALL NADfinder StartedAt: 2025-02-03 15:58:12 -0500 (Mon, 03 Feb 2025) EndedAt: 2025-02-03 15:59:30 -0500 (Mon, 03 Feb 2025) EllapsedTime: 78.4 seconds RetCode: 0 Status: OK