Package: NADfinder Version: 1.30.0 Command: rm -rf NADfinder.buildbin-libdir && mkdir NADfinder.buildbin-libdir && F:\biocbuild\bbs-3.20-bioc\R\bin\R.exe CMD INSTALL --build --library=NADfinder.buildbin-libdir NADfinder_1.30.0.tar.gz StartedAt: 2025-02-04 09:02:50 -0500 (Tue, 04 Feb 2025) EndedAt: 2025-02-04 09:04:26 -0500 (Tue, 04 Feb 2025) EllapsedTime: 96.3 seconds RetCode: 0 Status: OK PackageFile: NADfinder_1.30.0.zip PackageFileSize: 6.169 MiB