Package: NADfinder Version: 1.30.0 Command: F:\biocbuild\bbs-3.20-bioc\R\bin\R.exe CMD check --no-multiarch --install=check:NADfinder.install-out.txt --library=F:\biocbuild\bbs-3.20-bioc\R\library --no-vignettes --timings NADfinder_1.30.0.tar.gz StartedAt: 2025-02-04 04:17:13 -0500 (Tue, 04 Feb 2025) EndedAt: 2025-02-04 04:28:36 -0500 (Tue, 04 Feb 2025) EllapsedTime: 682.7 seconds RetCode: 0 Status: OK CheckDir: NADfinder.Rcheck Warnings: 0