Package: NADfinder Version: 1.30.0 Command: F:\biocbuild\bbs-3.20-bioc\R\bin\R.exe CMD INSTALL NADfinder StartedAt: 2025-02-03 17:02:01 -0500 (Mon, 03 Feb 2025) EndedAt: 2025-02-03 17:03:42 -0500 (Mon, 03 Feb 2025) EllapsedTime: 100.8 seconds RetCode: 0 Status: OK