Package: NADfinder Version: 1.30.0 Command: /home/biocbuild/R/R/bin/R CMD check --install=check:NADfinder.install-out.txt --library=/home/biocbuild/R/R/site-library --no-vignettes --timings NADfinder_1.30.0.tar.gz StartedAt: 2025-02-04 09:16:28 -0000 (Tue, 04 Feb 2025) EndedAt: 2025-02-04 09:27:20 -0000 (Tue, 04 Feb 2025) EllapsedTime: 652.1 seconds RetCode: 0 Status: OK CheckDir: NADfinder.Rcheck Warnings: 0