Package: NBAMSeq
Version: 1.22.0
Command: /Library/Frameworks/R.framework/Resources/bin/R CMD INSTALL NBAMSeq
StartedAt: 2024-11-08 15:39:56 -0500 (Fri, 08 Nov 2024)
EndedAt: 2024-11-08 15:40:07 -0500 (Fri, 08 Nov 2024)
EllapsedTime: 11.6 seconds
RetCode: 0
Status: OK