Package: NPARC Version: 1.18.0 Command: /Library/Frameworks/R.framework/Resources/bin/R CMD build --keep-empty-dirs --no-resave-data NPARC StartedAt: 2025-02-17 21:00:07 -0500 (Mon, 17 Feb 2025) EndedAt: 2025-02-17 21:08:55 -0500 (Mon, 17 Feb 2025) EllapsedTime: 528.4 seconds RetCode: 0 Status: OK PackageFile: NPARC_1.18.0.tar.gz PackageFileSize: 2.298 <A href="http://en.wikipedia.org/wiki/MiB" target="_blank">MiB</A>