Package: NPARC Version: 1.18.0 Command: /home/biocbuild/bbs-3.20-bioc/R/bin/R CMD check --install=check:NPARC.install-out.txt --library=/home/biocbuild/bbs-3.20-bioc/R/site-library --timings NPARC_1.18.0.tar.gz StartedAt: 2025-02-04 00:46:20 -0500 (Tue, 04 Feb 2025) EndedAt: 2025-02-04 00:50:34 -0500 (Tue, 04 Feb 2025) EllapsedTime: 253.3 seconds RetCode: 0 Status: OK CheckDir: NPARC.Rcheck Warnings: 0