Package: NPARC Version: 1.18.0 Command: /home/biocbuild/R/R/bin/R CMD build --keep-empty-dirs --no-resave-data NPARC StartedAt: 2025-02-04 01:28:03 -0000 (Tue, 04 Feb 2025) EndedAt: 2025-02-04 01:34:36 -0000 (Tue, 04 Feb 2025) EllapsedTime: 393.7 seconds RetCode: 0 Status: OK PackageFile: NPARC_1.18.0.tar.gz PackageFileSize: 2.014 MiB