Package: NPARC Version: 1.18.0 Command: /home/biocbuild/R/R/bin/R CMD INSTALL NPARC StartedAt: 2025-02-03 20:35:33 -0000 (Mon, 03 Feb 2025) EndedAt: 2025-02-03 20:35:40 -0000 (Mon, 03 Feb 2025) EllapsedTime: 6.5 seconds RetCode: 0 Status: OK