Package: NanoMethViz Version: 3.2.0 Command: /Library/Frameworks/R.framework/Resources/bin/R CMD check --install=check:NanoMethViz.install-out.txt --library=/Library/Frameworks/R.framework/Resources/library --no-vignettes --timings NanoMethViz_3.2.0.tar.gz StartedAt: 2025-02-05 03:40:29 -0500 (Wed, 05 Feb 2025) EndedAt: 2025-02-05 03:51:58 -0500 (Wed, 05 Feb 2025) EllapsedTime: 689.0 seconds RetCode: 0 Status: OK CheckDir: NanoMethViz.Rcheck Warnings: 0