Package: NanoMethViz Version: 3.2.0 Command: /Library/Frameworks/R.framework/Resources/bin/R CMD INSTALL NanoMethViz StartedAt: 2025-02-03 17:44:01 -0500 (Mon, 03 Feb 2025) EndedAt: 2025-02-03 17:45:11 -0500 (Mon, 03 Feb 2025) EllapsedTime: 70.9 seconds RetCode: 0 Status: OK