Package: NanoMethViz Version: 3.2.0 Command: rm -rf NanoMethViz.buildbin-libdir && mkdir NanoMethViz.buildbin-libdir && /Users/biocbuild/BBS/utils/build-universal.sh NanoMethViz_3.2.0.tar.gz /Library/Frameworks/R.framework/Resources/bin/R NanoMethViz.buildbin-libdir StartedAt: 2025-02-04 13:36:24 -0500 (Tue, 04 Feb 2025) EndedAt: 2025-02-04 13:40:00 -0500 (Tue, 04 Feb 2025) EllapsedTime: 216.7 seconds RetCode: 0 Status: OK PackageFile: NanoMethViz_3.2.0.tgz PackageFileSize: 9.1 MiB