Package: NanoMethViz Version: 3.2.0 Command: /home/biocbuild/bbs-3.20-bioc/R/bin/R CMD build --keep-empty-dirs --no-resave-data --md5 NanoMethViz StartedAt: 2025-02-03 18:27:15 -0500 (Mon, 03 Feb 2025) EndedAt: 2025-02-03 18:30:12 -0500 (Mon, 03 Feb 2025) EllapsedTime: 176.1 seconds RetCode: 0 Status: OK PackageFile: NanoMethViz_3.2.0.tar.gz PackageFileSize: 7.638 MiB