Package: NanoStringDiff Version: 1.36.0 Command: /Library/Frameworks/R.framework/Resources/bin/R CMD build --keep-empty-dirs --no-resave-data NanoStringDiff StartedAt: 2025-02-03 20:48:15 -0500 (Mon, 03 Feb 2025) EndedAt: 2025-02-03 20:49:01 -0500 (Mon, 03 Feb 2025) EllapsedTime: 46.0 seconds RetCode: 0 Status: OK PackageFile: NanoStringDiff_1.36.0.tar.gz PackageFileSize: 416.2 KiB