Package: NanoStringDiff Version: 1.36.0 Command: /Library/Frameworks/R.framework/Resources/bin/R CMD INSTALL NanoStringDiff StartedAt: 2025-02-03 15:15:39 -0500 (Mon, 03 Feb 2025) EndedAt: 2025-02-03 15:16:03 -0500 (Mon, 03 Feb 2025) EllapsedTime: 24.2 seconds RetCode: 0 Status: OK