Package: NanoStringDiff
Version: 1.35.0
Command: chmod a+r NanoStringDiff -R && F:\biocbuild\bbs-3.20-bioc\R\bin\R.exe CMD build --keep-empty-dirs --no-resave-data NanoStringDiff
StartedAt: 2024-06-09 20:43:37 -0400 (Sun, 09 Jun 2024)
EndedAt: 2024-06-09 20:44:35 -0400 (Sun, 09 Jun 2024)
EllapsedTime: 58.3 seconds
RetCode: 0
Status: OK
PackageFile: NanoStringDiff_1.35.0.tar.gz
PackageFileSize: 279.5 <A href="http://en.wikipedia.org/wiki/KiB" target="_blank">KiB</A>