Package: NanoStringDiff Version: 1.36.0 Command: F:\biocbuild\bbs-3.20-bioc\R\bin\R.exe CMD INSTALL NanoStringDiff StartedAt: 2025-02-03 15:37:51 -0500 (Mon, 03 Feb 2025) EndedAt: 2025-02-03 15:38:35 -0500 (Mon, 03 Feb 2025) EllapsedTime: 44.4 seconds RetCode: 0 Status: OK