Package: NanoStringNCTools
Version: 1.14.0
Command: rm -rf NanoStringNCTools.buildbin-libdir && mkdir NanoStringNCTools.buildbin-libdir && /Users/biocbuild/BBS/utils/build-universal.sh NanoStringNCTools_1.14.0.tar.gz /Library/Frameworks/R.framework/Resources/bin/R NanoStringNCTools.buildbin-libdir
StartedAt: 2024-11-09 17:01:45 -0500 (Sat, 09 Nov 2024)
EndedAt: 2024-11-09 17:01:52 -0500 (Sat, 09 Nov 2024)
EllapsedTime: 7.1 seconds
RetCode: 0
Status: OK
PackageFile: NanoStringNCTools_1.14.0.tgz
PackageFileSize: 945.4 <A href="http://en.wikipedia.org/wiki/KiB" target="_blank">KiB</A>