Package: NanoStringNCTools
Version: 1.14.0
Command: /Library/Frameworks/R.framework/Resources/bin/R CMD build --keep-empty-dirs --no-resave-data NanoStringNCTools
StartedAt: 2024-11-19 17:51:10 -0500 (Tue, 19 Nov 2024)
EndedAt: 2024-11-19 17:51:52 -0500 (Tue, 19 Nov 2024)
EllapsedTime: 42.2 seconds
RetCode: 0
Status: OK
PackageFile: NanoStringNCTools_1.14.0.tar.gz
PackageFileSize: 376.9 <A href="http://en.wikipedia.org/wiki/KiB" target="_blank">KiB</A>