Package: NanoStringNCTools Version: 1.14.0 Command: rm -rf NanoStringNCTools.buildbin-libdir && mkdir NanoStringNCTools.buildbin-libdir && /Users/biocbuild/BBS/utils/build-universal.sh NanoStringNCTools_1.14.0.tar.gz /Library/Frameworks/R.framework/Resources/bin/R NanoStringNCTools.buildbin-libdir StartedAt: 2025-01-31 13:16:35 -0500 (Fri, 31 Jan 2025) EndedAt: 2025-01-31 13:17:17 -0500 (Fri, 31 Jan 2025) EllapsedTime: 41.2 seconds RetCode: 0 Status: OK PackageFile: NanoStringNCTools_1.14.0.tgz PackageFileSize: 944.1 KiB