Package: NanoStringNCTools Version: 1.14.0 Command: /Library/Frameworks/R.framework/Resources/bin/R CMD INSTALL NanoStringNCTools StartedAt: 2025-01-30 15:55:06 -0500 (Thu, 30 Jan 2025) EndedAt: 2025-01-30 15:55:45 -0500 (Thu, 30 Jan 2025) EllapsedTime: 39.3 seconds RetCode: 0 Status: OK