Package: NanoStringNCTools Version: 1.14.0 Command: rm -rf NanoStringNCTools.buildbin-libdir && mkdir NanoStringNCTools.buildbin-libdir && F:\biocbuild\bbs-3.20-bioc\R\bin\R.exe CMD INSTALL --build --library=NanoStringNCTools.buildbin-libdir NanoStringNCTools_1.14.0.tar.gz StartedAt: 2025-02-04 09:03:11 -0500 (Tue, 04 Feb 2025) EndedAt: 2025-02-04 09:07:06 -0500 (Tue, 04 Feb 2025) EllapsedTime: 235.1 seconds RetCode: 0 Status: OK PackageFile: NanoStringNCTools_1.14.0.zip PackageFileSize: 891 KiB