Package: NanoTube Version: 1.12.0 Command: rm -rf NanoTube.buildbin-libdir && mkdir NanoTube.buildbin-libdir && /Users/biocbuild/BBS/utils/build-universal.sh NanoTube_1.12.0.tar.gz /Library/Frameworks/R.framework/Resources/bin/R NanoTube.buildbin-libdir StartedAt: 2025-02-05 16:54:55 -0500 (Wed, 05 Feb 2025) EndedAt: 2025-02-05 16:55:09 -0500 (Wed, 05 Feb 2025) EllapsedTime: 13.6 seconds RetCode: 0 Status: OK PackageFile: NanoTube_1.12.0.tgz PackageFileSize: 2.116 MiB