Package: NanoTube Version: 1.12.0 Command: /Library/Frameworks/R.framework/Resources/bin/R CMD build --keep-empty-dirs --no-resave-data NanoTube StartedAt: 2025-02-04 04:33:51 -0500 (Tue, 04 Feb 2025) EndedAt: 2025-02-04 04:34:41 -0500 (Tue, 04 Feb 2025) EllapsedTime: 50.2 seconds RetCode: 0 Status: OK PackageFile: NanoTube_1.12.0.tar.gz PackageFileSize: 2.007 MiB