Package: NanoTube Version: 1.12.0 Command: /Library/Frameworks/R.framework/Resources/bin/R CMD check --install=check:NanoTube.install-out.txt --library=/Library/Frameworks/R.framework/Resources/library --no-vignettes --timings NanoTube_1.12.0.tar.gz StartedAt: 2025-02-05 03:43:10 -0500 (Wed, 05 Feb 2025) EndedAt: 2025-02-05 03:45:00 -0500 (Wed, 05 Feb 2025) EllapsedTime: 110.7 seconds RetCode: 0 Status: OK CheckDir: NanoTube.Rcheck Warnings: 0