Package: NanoTube Version: 1.11.0 Command: /home/biocbuild/R/R/bin/R CMD check --install=check:NanoTube.install-out.txt --library=/home/biocbuild/R/R/site-library --no-vignettes --timings NanoTube_1.11.0.tar.gz StartedAt: 2024-07-06 06:51:10 -0000 (Sat, 06 Jul 2024) EndedAt: 2024-07-06 06:53:09 -0000 (Sat, 06 Jul 2024) EllapsedTime: 119.4 seconds RetCode: 0 Status: OK CheckDir: NanoTube.Rcheck Warnings: 0