Package: NanoTube Version: 1.12.0 Command: rm -rf NanoTube.buildbin-libdir && mkdir NanoTube.buildbin-libdir && /Users/biocbuild/BBS/utils/build-universal.sh NanoTube_1.12.0.tar.gz /Library/Frameworks/R.framework/Resources/bin/R NanoTube.buildbin-libdir StartedAt: 2025-02-04 13:36:51 -0500 (Tue, 04 Feb 2025) EndedAt: 2025-02-04 13:37:25 -0500 (Tue, 04 Feb 2025) EllapsedTime: 34.3 seconds RetCode: 0 Status: OK PackageFile: NanoTube_1.12.0.tgz PackageFileSize: 2.115 MiB