Package: NanoTube Version: 1.12.0 Command: /Library/Frameworks/R.framework/Resources/bin/R CMD INSTALL NanoTube StartedAt: 2025-02-17 16:18:23 -0500 (Mon, 17 Feb 2025) EndedAt: 2025-02-17 16:18:45 -0500 (Mon, 17 Feb 2025) EllapsedTime: 22.0 seconds RetCode: 0 Status: OK