Package: NanoTube Version: 1.12.0 Command: /home/biocbuild/bbs-3.20-bioc/R/bin/R CMD build --keep-empty-dirs --no-resave-data --md5 NanoTube StartedAt: 2025-02-03 18:27:46 -0500 (Mon, 03 Feb 2025) EndedAt: 2025-02-03 18:28:22 -0500 (Mon, 03 Feb 2025) EllapsedTime: 36.0 seconds RetCode: 0 Status: OK PackageFile: NanoTube_1.12.0.tar.gz PackageFileSize: 2.001 MiB