Package: NanoTube Version: 1.11.0 Command: F:\biocbuild\bbs-3.20-bioc\R\bin\R.exe CMD check --no-multiarch --install=check:NanoTube.install-out.txt --library=F:\biocbuild\bbs-3.20-bioc\R\library --no-vignettes --timings NanoTube_1.11.0.tar.gz StartedAt: 2024-06-10 06:14:05 -0400 (Mon, 10 Jun 2024) EndedAt: 2024-06-10 06:24:04 -0400 (Mon, 10 Jun 2024) EllapsedTime: 598.9 seconds RetCode: 0 Status: OK CheckDir: NanoTube.Rcheck Warnings: 0