Package: NanoTube Version: 1.12.0 Command: /home/biocbuild/R/R/bin/R CMD INSTALL NanoTube StartedAt: 2025-02-03 21:10:19 -0000 (Mon, 03 Feb 2025) EndedAt: 2025-02-03 21:10:32 -0000 (Mon, 03 Feb 2025) EllapsedTime: 12.8 seconds RetCode: 0 Status: OK