Package: NetActivity Version: 1.8.0 Command: /Library/Frameworks/R.framework/Resources/bin/R CMD build --keep-empty-dirs --no-resave-data NetActivity StartedAt: 2025-01-31 04:31:08 -0500 (Fri, 31 Jan 2025) EndedAt: 2025-01-31 04:32:33 -0500 (Fri, 31 Jan 2025) EllapsedTime: 84.3 seconds RetCode: 0 Status: OK PackageFile: NetActivity_1.8.0.tar.gz PackageFileSize: 437.9 KiB