Package: NetActivity Version: 1.8.0 Command: /Library/Frameworks/R.framework/Resources/bin/R CMD check --install=check:NetActivity.install-out.txt --library=/Library/Frameworks/R.framework/Resources/library --no-vignettes --timings NetActivity_1.8.0.tar.gz StartedAt: 2025-02-01 03:08:20 -0500 (Sat, 01 Feb 2025) EndedAt: 2025-02-01 03:12:56 -0500 (Sat, 01 Feb 2025) EllapsedTime: 276.0 seconds RetCode: 0 Status: OK CheckDir: NetActivity.Rcheck Warnings: 0