Package: NetActivity Version: 1.8.0 Command: /Library/Frameworks/R.framework/Resources/bin/R CMD INSTALL NetActivity StartedAt: 2025-01-30 15:52:17 -0500 (Thu, 30 Jan 2025) EndedAt: 2025-01-30 15:52:45 -0500 (Thu, 30 Jan 2025) EllapsedTime: 28.1 seconds RetCode: 0 Status: OK