Package: NetActivity Version: 1.8.0 Command: rm -rf NetActivity.buildbin-libdir && mkdir NetActivity.buildbin-libdir && /Users/biocbuild/BBS/utils/build-universal.sh NetActivity_1.8.0.tar.gz /Library/Frameworks/R.framework/Resources/bin/R NetActivity.buildbin-libdir StartedAt: 2025-01-31 13:17:10 -0500 (Fri, 31 Jan 2025) EndedAt: 2025-01-31 13:18:04 -0500 (Fri, 31 Jan 2025) EllapsedTime: 54.2 seconds RetCode: 0 Status: OK PackageFile: NetActivity_1.8.0.tgz PackageFileSize: 446.6 KiB