Package: NetActivity Version: 1.8.0 Command: /Library/Frameworks/R.framework/Resources/bin/R CMD build --keep-empty-dirs --no-resave-data NetActivity StartedAt: 2025-01-30 21:22:20 -0500 (Thu, 30 Jan 2025) EndedAt: 2025-01-30 21:24:57 -0500 (Thu, 30 Jan 2025) EllapsedTime: 157.8 seconds RetCode: 0 Status: OK PackageFile: NetActivity_1.8.0.tar.gz PackageFileSize: 437.6 KiB