Package: NetActivity Version: 1.7.0 Command: chmod a+r NetActivity -R && C:\Users\biocbuild\bbs-3.20-bioc\R\bin\R.exe CMD build --keep-empty-dirs --no-resave-data NetActivity StartedAt: 2024-07-15 19:33:40 -0400 (Mon, 15 Jul 2024) EndedAt: 2024-07-15 19:34:43 -0400 (Mon, 15 Jul 2024) EllapsedTime: 62.7 seconds RetCode: 0 Status: OK PackageFile: NetActivity_1.7.0.tar.gz PackageFileSize: 345.1 KiB