Package: NetActivity Version: 1.8.0 Command: rm -rf NetActivity.buildbin-libdir && mkdir NetActivity.buildbin-libdir && F:\biocbuild\bbs-3.20-bioc\R\bin\R.exe CMD INSTALL --build --library=NetActivity.buildbin-libdir NetActivity_1.8.0.tar.gz StartedAt: 2025-01-31 09:10:38 -0500 (Fri, 31 Jan 2025) EndedAt: 2025-01-31 09:11:11 -0500 (Fri, 31 Jan 2025) EllapsedTime: 33.0 seconds RetCode: 0 Status: OK PackageFile: NetActivity_1.8.0.zip PackageFileSize: 359.3 KiB